BEGIN:VCALENDAR
VERSION:2.0
PRODID:-//Emmanuel United Church - ECPv6.2.4//NONSGML v1.0//EN
CALSCALE:GREGORIAN
METHOD:PUBLISH
X-WR-CALNAME:Emmanuel United Church
X-ORIGINAL-URL:https://emmanuelunited.ca
X-WR-CALDESC:Events for Emmanuel United Church
REFRESH-INTERVAL;VALUE=DURATION:PT1H
X-Robots-Tag:noindex
X-PUBLISHED-TTL:PT1H
BEGIN:VTIMEZONE
TZID:America/Toronto
BEGIN:DAYLIGHT
TZOFFSETFROM:-0500
TZOFFSETTO:-0400
TZNAME:EDT
DTSTART:20230312T070000
END:DAYLIGHT
BEGIN:STANDARD
TZOFFSETFROM:-0400
TZOFFSETTO:-0500
TZNAME:EST
DTSTART:20231105T060000
END:STANDARD
END:VTIMEZONE
BEGIN:VEVENT
DTSTART;TZID=America/Toronto:20231007T170000
DTEND;TZID=America/Toronto:20231007T193000
DTSTAMP:20260421T040837
CREATED:20231002T020038Z
LAST-MODIFIED:20231002T021052Z
UID:10000026-1696698000-1696707000@emmanuelunited.ca
SUMMARY:Pre-Teen Evening
DESCRIPTION:Youth in grades 4-8 are invited to our Pre-Teen Evening on Saturday\, October 7th from 5:00pm – 7:30 pm. Come for games\, dinner and to work on youth crafts for the bazaar.
URL:https://emmanuelunited.ca/event/pre-teen-evening/
LOCATION:Emmanuel United Church
ATTACH;FMTTYPE=image/jpeg:https://emmanuelunited.ca/wp-content/uploads/2023/10/Youth-Graphic.jpg
END:VEVENT
END:VCALENDAR