BEGIN:VCALENDAR
VERSION:2.0
PRODID:-//Emmanuel United Church - ECPv6.2.4//NONSGML v1.0//EN
CALSCALE:GREGORIAN
METHOD:PUBLISH
X-ORIGINAL-URL:https://emmanuelunited.ca
X-WR-CALDESC:Events for Emmanuel United Church
REFRESH-INTERVAL;VALUE=DURATION:PT1H
X-Robots-Tag:noindex
X-PUBLISHED-TTL:PT1H
BEGIN:VTIMEZONE
TZID:America/Toronto
BEGIN:DAYLIGHT
TZOFFSETFROM:-0500
TZOFFSETTO:-0400
TZNAME:EDT
DTSTART:20240310T070000
END:DAYLIGHT
BEGIN:STANDARD
TZOFFSETFROM:-0400
TZOFFSETTO:-0500
TZNAME:EST
DTSTART:20241103T060000
END:STANDARD
END:VTIMEZONE
BEGIN:VEVENT
DTSTART;VALUE=DATE:20240822
DTEND;VALUE=DATE:20240825
DTSTAMP:20260421T041052
CREATED:20240630T223647Z
LAST-MODIFIED:20240630T234259Z
UID:10000162-1724284800-1724543999@emmanuelunited.ca
SUMMARY:Habitat for Humanity ~ Young Adult Build
DESCRIPTION:Young adults are invited to a long weekend away in Cobourg\, Ontario where we will support the work taking place on a Habitat for Humanity build. Contact Amelia (amelia.euc@@gmail.com) for more information.
URL:https://emmanuelunited.ca/event/habitat-for-humanity-young-adult-build/
LOCATION:Ontario
ATTACH;FMTTYPE=image/png:https://emmanuelunited.ca/wp-content/uploads/2023/08/Habitat.png
END:VEVENT
END:VCALENDAR