BEGIN:VCALENDAR
VERSION:2.0
PRODID:-//Emmanuel United Church - ECPv6.2.4//NONSGML v1.0//EN
CALSCALE:GREGORIAN
METHOD:PUBLISH
X-WR-CALNAME:Emmanuel United Church
X-ORIGINAL-URL:https://emmanuelunited.ca
X-WR-CALDESC:Events for Emmanuel United Church
REFRESH-INTERVAL;VALUE=DURATION:PT1H
X-Robots-Tag:noindex
X-PUBLISHED-TTL:PT1H
BEGIN:VTIMEZONE
TZID:America/Toronto
BEGIN:DAYLIGHT
TZOFFSETFROM:-0500
TZOFFSETTO:-0400
TZNAME:EDT
DTSTART:20240310T070000
END:DAYLIGHT
BEGIN:STANDARD
TZOFFSETFROM:-0400
TZOFFSETTO:-0500
TZNAME:EST
DTSTART:20241103T060000
END:STANDARD
END:VTIMEZONE
BEGIN:VEVENT
DTSTART;TZID=America/Toronto:20240928T090000
DTEND;TZID=America/Toronto:20240928T140000
DTSTAMP:20260421T053335
CREATED:20230929T174726Z
LAST-MODIFIED:20240926T022549Z
UID:10000024-1727514000-1727532000@emmanuelunited.ca
SUMMARY:Canning Workshop
DESCRIPTION:Have you ever been curious about canning? When savouring a fresh\, tangy\, relish\, have you wondered about the process? If so\, then please\, consider joining Brenda Ashe and Emma Dowd in the kitchen on Saturday\, September 28 from 9:00am-2:00pm! \nParticipants will get to bring home a jar of Winter Salad- an excellent relish to use on ham sandwiches or burgers\, with the extra jars being sold at the coming bazaar. \nPlease sign on the sign up sheet in the narthex.
URL:https://emmanuelunited.ca/event/canning-workshop/
LOCATION:Ontario
ATTACH;FMTTYPE=image/jpeg:https://emmanuelunited.ca/wp-content/uploads/2023/09/20230929_104830-scaled.jpg
END:VEVENT
END:VCALENDAR