BEGIN:VCALENDAR
VERSION:2.0
PRODID:-//Emmanuel United Church - ECPv6.2.4//NONSGML v1.0//EN
CALSCALE:GREGORIAN
METHOD:PUBLISH
X-ORIGINAL-URL:https://emmanuelunited.ca
X-WR-CALDESC:Events for Emmanuel United Church
REFRESH-INTERVAL;VALUE=DURATION:PT1H
X-Robots-Tag:noindex
X-PUBLISHED-TTL:PT1H
BEGIN:VTIMEZONE
TZID:America/Toronto
BEGIN:DAYLIGHT
TZOFFSETFROM:-0500
TZOFFSETTO:-0400
TZNAME:EDT
DTSTART:20250309T070000
END:DAYLIGHT
BEGIN:STANDARD
TZOFFSETFROM:-0400
TZOFFSETTO:-0500
TZNAME:EST
DTSTART:20251102T060000
END:STANDARD
END:VTIMEZONE
BEGIN:VEVENT
DTSTART;TZID=America/Toronto:20250320T110000
DTEND;TZID=America/Toronto:20250320T120000
DTSTAMP:20260422T042934
CREATED:20250312T191731Z
LAST-MODIFIED:20250313T184013Z
UID:10000587-1742468400-1742472000@emmanuelunited.ca
SUMMARY:Neighbourhood Bible Study
DESCRIPTION:Join our Neighbourhood Bible Study during the month of March. The group meets on Thursday mornings at 11 am.\n\nThe topics will be the lectionary reading for the following Sunday. The remaining sessions are:\n\n   March 20 at Emmanuel\n   March 27 at Pur & Simple\, Elmvale\n\nOrganized by the ministers of St. Aidan’s\, Martin Luther and Emmanuel.
URL:https://emmanuelunited.ca/event/neighbourhood-bible-study-2/2025-03-20/
LOCATION:St. Aidan’s\, 934 Hamlet Road\, Ottawa\, Ontario\, Canada
ATTACH;FMTTYPE=image/jpeg:https://emmanuelunited.ca/wp-content/uploads/2025/03/Neighbourhood-Bible-Study.jpg
END:VEVENT
END:VCALENDAR