BEGIN:VCALENDAR
VERSION:2.0
PRODID:-//Emmanuel United Church - ECPv6.2.4//NONSGML v1.0//EN
CALSCALE:GREGORIAN
METHOD:PUBLISH
X-ORIGINAL-URL:https://emmanuelunited.ca
X-WR-CALDESC:Events for Emmanuel United Church
REFRESH-INTERVAL;VALUE=DURATION:PT1H
X-Robots-Tag:noindex
X-PUBLISHED-TTL:PT1H
BEGIN:VTIMEZONE
TZID:America/Toronto
BEGIN:DAYLIGHT
TZOFFSETFROM:-0500
TZOFFSETTO:-0400
TZNAME:EDT
DTSTART:20250309T070000
END:DAYLIGHT
BEGIN:STANDARD
TZOFFSETFROM:-0400
TZOFFSETTO:-0500
TZNAME:EST
DTSTART:20251102T060000
END:STANDARD
END:VTIMEZONE
BEGIN:VEVENT
DTSTART;TZID=America/Toronto:20250521T100000
DTEND;TZID=America/Toronto:20250521T140000
DTSTAMP:20260421T231933
CREATED:20250412T205603Z
LAST-MODIFIED:20250508T190026Z
UID:10000596-1747821600-1747836000@emmanuelunited.ca
SUMMARY:Spring Pilgrimage ~ No One Stands Alone
DESCRIPTION:On Wednesday\, May 21st (postponed from May 7th due to rain)\, from 10:00 am to 2:00 pm\, Ron MacDonald and members of the Pastoral Care Team will lead a local pilgrimage to Vincent Massey Park (Riverside at Heron). \nWhy? To enjoy nature\, grow spiritually\, and share with our Church family. A sign up sheet is posted in the upstairs hallway opposite the C.E. Hall or talk to Ron MacDonald\, Irene Baaker or Jill MacLean. Drivers are needed. Full information will be sent to all who sign up. \nContact Ron at pastoralcare@emmanuelunited.ca to find out further details.
URL:https://emmanuelunited.ca/event/spring-pilgrimage/
LOCATION:Vincent Massey Park\, Heron Rd\, Ottawa\, Ontario\, K1V 2E4\, Canada
ATTACH;FMTTYPE=image/jpeg:https://emmanuelunited.ca/wp-content/uploads/2023/08/good-group-photo-Nature-Pilgrims-e1692212371600.jpg
END:VEVENT
END:VCALENDAR