BEGIN:VCALENDAR
VERSION:2.0
PRODID:-//Emmanuel United Church - ECPv6.2.4//NONSGML v1.0//EN
CALSCALE:GREGORIAN
METHOD:PUBLISH
X-ORIGINAL-URL:https://emmanuelunited.ca
X-WR-CALDESC:Events for Emmanuel United Church
REFRESH-INTERVAL;VALUE=DURATION:PT1H
X-Robots-Tag:noindex
X-PUBLISHED-TTL:PT1H
BEGIN:VTIMEZONE
TZID:America/Toronto
BEGIN:DAYLIGHT
TZOFFSETFROM:-0500
TZOFFSETTO:-0400
TZNAME:EDT
DTSTART:20250309T070000
END:DAYLIGHT
BEGIN:STANDARD
TZOFFSETFROM:-0400
TZOFFSETTO:-0500
TZNAME:EST
DTSTART:20251102T060000
END:STANDARD
END:VTIMEZONE
BEGIN:VEVENT
DTSTART;TZID=America/Toronto:20250824T130000
DTEND;TZID=America/Toronto:20250824T140000
DTSTAMP:20260421T182238
CREATED:20250803T215031Z
LAST-MODIFIED:20250803T215031Z
UID:10000620-1756040400-1756044000@emmanuelunited.ca
SUMMARY:Ottawa Pride Parade
DESCRIPTION:The Annual Ottawa Pride Parade will take place in Centretown Ottawa on Sunday\, August 24th starting at 1:00 pm. \nEmmanuel is looking for a volunteer team to coordinate our participation in this event. We have an Emmanuel Pride Banner to carry in the parade. \nPlease contact the office if you would like to be involved and/or if you are willing to coordinate our team. \n 
URL:https://emmanuelunited.ca/event/ottawa-pride-parade/
LOCATION:Ontario
ATTACH;FMTTYPE=image/jpeg:https://emmanuelunited.ca/wp-content/uploads/2023/07/pride-march-e1692800240414.jpeg
END:VEVENT
END:VCALENDAR