BEGIN:VCALENDAR
VERSION:2.0
PRODID:-//Emmanuel United Church - ECPv6.2.4//NONSGML v1.0//EN
CALSCALE:GREGORIAN
METHOD:PUBLISH
X-WR-CALNAME:Emmanuel United Church
X-ORIGINAL-URL:https://emmanuelunited.ca
X-WR-CALDESC:Events for Emmanuel United Church
REFRESH-INTERVAL;VALUE=DURATION:PT1H
X-Robots-Tag:noindex
X-PUBLISHED-TTL:PT1H
BEGIN:VTIMEZONE
TZID:America/Toronto
BEGIN:DAYLIGHT
TZOFFSETFROM:-0500
TZOFFSETTO:-0400
TZNAME:EDT
DTSTART:20250309T070000
END:DAYLIGHT
BEGIN:STANDARD
TZOFFSETFROM:-0400
TZOFFSETTO:-0500
TZNAME:EST
DTSTART:20251102T060000
END:STANDARD
END:VTIMEZONE
BEGIN:VEVENT
DTSTART;TZID=America/Toronto:20250924T190000
DTEND;TZID=America/Toronto:20250924T210000
DTSTAMP:20260421T194834
CREATED:20250902T134122Z
LAST-MODIFIED:20250902T134122Z
UID:10000622-1758740400-1758747600@emmanuelunited.ca
SUMMARY:TELEOS
DESCRIPTION:Teleos is a group for members of the congregation who identify as women. This month\, Lynn Solvason will share stories and pictures about walking the St. Cuthbert’s Way in the UK in the spring of 2025. \nTeleos will meet on Wednesday\, September 24th at 7:00 p.m. on ZOOM.  \nIf you are not on the Teleos distribution list but wish to join this meeting\, please contact Colleen Calvert or the Emmanuel Office to get the Zoom invitation.
URL:https://emmanuelunited.ca/event/teleos/
LOCATION:Ontario
ATTACH;FMTTYPE=image/jpeg:https://emmanuelunited.ca/wp-content/uploads/2024/03/Teleos-Retreat-2024-scaled.jpeg
END:VEVENT
END:VCALENDAR