BEGIN:VCALENDAR
VERSION:2.0
PRODID:-//Emmanuel United Church - ECPv6.2.4//NONSGML v1.0//EN
CALSCALE:GREGORIAN
METHOD:PUBLISH
X-ORIGINAL-URL:https://emmanuelunited.ca
X-WR-CALDESC:Events for Emmanuel United Church
REFRESH-INTERVAL;VALUE=DURATION:PT1H
X-Robots-Tag:noindex
X-PUBLISHED-TTL:PT1H
BEGIN:VTIMEZONE
TZID:America/Toronto
BEGIN:DAYLIGHT
TZOFFSETFROM:-0500
TZOFFSETTO:-0400
TZNAME:EDT
DTSTART:20250309T070000
END:DAYLIGHT
BEGIN:STANDARD
TZOFFSETFROM:-0400
TZOFFSETTO:-0500
TZNAME:EST
DTSTART:20251102T060000
END:STANDARD
END:VTIMEZONE
BEGIN:VEVENT
DTSTART;TZID=America/Toronto:20251203T190000
DTEND;TZID=America/Toronto:20251203T193000
DTSTAMP:20260421T120340
CREATED:20231118T215310Z
LAST-MODIFIED:20251130T014543Z
UID:10000637-1764788400-1764790200@emmanuelunited.ca
SUMMARY:Emmanuel Advent Services
DESCRIPTION:Emmanuel Advent Services \nJoin us online on ZOOM on Wednesday evenings \nduring Advent for a special service \nto help us prepare for the Christmas season. \nDecember 3rd\, 10th\, and 17th \nat 7 pm on ZOOM \nContact the office for the Zoom Link.
URL:https://emmanuelunited.ca/event/emmanuel-advent-services/
LOCATION:Ontario
ATTACH;FMTTYPE=image/jpeg:https://emmanuelunited.ca/wp-content/uploads/2023/11/Advent-Services-6-x-6-in.jpg
END:VEVENT
END:VCALENDAR