BEGIN:VCALENDAR
VERSION:2.0
PRODID:-//Emmanuel United Church - ECPv6.2.4//NONSGML v1.0//EN
CALSCALE:GREGORIAN
METHOD:PUBLISH
X-ORIGINAL-URL:https://emmanuelunited.ca
X-WR-CALDESC:Events for Emmanuel United Church
REFRESH-INTERVAL;VALUE=DURATION:PT1H
X-Robots-Tag:noindex
X-PUBLISHED-TTL:PT1H
BEGIN:VTIMEZONE
TZID:America/Toronto
BEGIN:DAYLIGHT
TZOFFSETFROM:-0500
TZOFFSETTO:-0400
TZNAME:EDT
DTSTART:20250309T070000
END:DAYLIGHT
BEGIN:STANDARD
TZOFFSETFROM:-0400
TZOFFSETTO:-0500
TZNAME:EST
DTSTART:20251102T060000
END:STANDARD
END:VTIMEZONE
BEGIN:VEVENT
DTSTART;TZID=America/Toronto:20251221T113000
DTEND;TZID=America/Toronto:20251221T143000
DTSTAMP:20260421T120742
CREATED:20251130T003954Z
LAST-MODIFIED:20251130T003954Z
UID:10000634-1766316600-1766327400@emmanuelunited.ca
SUMMARY:Parents Afternoon Out
DESCRIPTION:The CD Team is offering a Parents Afternoon Out on Sunday\, Dec. 21 following church until 2:30 pm. Parents can leave their children or drop them off for lunch\, games\, and crafts. There will also be time to rehearse for the 5 pm Christmas Eve Family Service\, for those that would like to participate.
URL:https://emmanuelunited.ca/event/parents-afternoon-out/
LOCATION:Ontario
ATTACH;FMTTYPE=image/jpeg:https://emmanuelunited.ca/wp-content/uploads/2023/10/Youth-Graphic.jpg
END:VEVENT
END:VCALENDAR