BEGIN:VCALENDAR
VERSION:2.0
PRODID:-//Emmanuel United Church - ECPv6.2.4//NONSGML v1.0//EN
CALSCALE:GREGORIAN
METHOD:PUBLISH
X-WR-CALNAME:Emmanuel United Church
X-ORIGINAL-URL:https://emmanuelunited.ca
X-WR-CALDESC:Events for Emmanuel United Church
REFRESH-INTERVAL;VALUE=DURATION:PT1H
X-Robots-Tag:noindex
X-PUBLISHED-TTL:PT1H
BEGIN:VTIMEZONE
TZID:America/Toronto
BEGIN:DAYLIGHT
TZOFFSETFROM:-0500
TZOFFSETTO:-0400
TZNAME:EDT
DTSTART:20260308T070000
END:DAYLIGHT
BEGIN:STANDARD
TZOFFSETFROM:-0400
TZOFFSETTO:-0500
TZNAME:EST
DTSTART:20261101T060000
END:STANDARD
END:VTIMEZONE
BEGIN:VEVENT
DTSTART;TZID=America/Toronto:20260222T113000
DTEND;TZID=America/Toronto:20260222T133000
DTSTAMP:20260421T084517
CREATED:20260129T204155Z
LAST-MODIFIED:20260129T205343Z
UID:10000645-1771759800-1771767000@emmanuelunited.ca
SUMMARY:Annual Congregational Meeting
DESCRIPTION:The Emmanuel United Church 2025 Annual Congregational Meeting will be held on Sunday\, February 22\, 2026.\nA light lunch will be served in the lounge following the Sunday morning worship service. Please serve yourself a plate of food and something to drink and resume sitting in the Sanctuary. The meeting will start at approximately 11:30 am.\nEveryone is welcome to attend.\nIf your children wish\, they can join Amelia in the CE Hall before the start of the meeting for age appropriate activities.\nThe meeting will be streamed (use the same link as the Sunday morning worship service) but online viewers will not be able to vote.\nVoting Rights will be in accordance with section 5.2 of the Emmanuel United Church Constitution\, which states that adherents have voting privileges unless otherwise decided at the meeting. So\, if you have been an adherent long enough to be in our monthly directory\, you’re as much a part of the decision-making as those who have membership.\nPlease bring along your copy of the 2025 Annual Report; it’s good to be able to refer to things as they are reviewed and discussed. There are a few extra copies in the Narthex.\nKeith Jeacle\nChair of Council
URL:https://emmanuelunited.ca/event/annual-congregational-meeting/
LOCATION:Ontario
ATTACH;FMTTYPE=image/jpeg:https://emmanuelunited.ca/wp-content/uploads/2026/01/EUC-Annual-Meeting-2026.jpg
END:VEVENT
END:VCALENDAR