BEGIN:VCALENDAR
VERSION:2.0
PRODID:-//Emmanuel United Church - ECPv6.2.4//NONSGML v1.0//EN
CALSCALE:GREGORIAN
METHOD:PUBLISH
X-WR-CALNAME:Emmanuel United Church
X-ORIGINAL-URL:https://emmanuelunited.ca
X-WR-CALDESC:Events for Emmanuel United Church
REFRESH-INTERVAL;VALUE=DURATION:PT1H
X-Robots-Tag:noindex
X-PUBLISHED-TTL:PT1H
BEGIN:VTIMEZONE
TZID:America/Toronto
BEGIN:DAYLIGHT
TZOFFSETFROM:-0500
TZOFFSETTO:-0400
TZNAME:EDT
DTSTART:20260308T070000
END:DAYLIGHT
BEGIN:STANDARD
TZOFFSETFROM:-0400
TZOFFSETTO:-0500
TZNAME:EST
DTSTART:20261101T060000
END:STANDARD
END:VTIMEZONE
BEGIN:VEVENT
DTSTART;TZID=America/Toronto:20260318T103000
DTEND;TZID=America/Toronto:20260318T190000
DTSTAMP:20260421T073447
CREATED:20260226T145538Z
LAST-MODIFIED:20260226T145538Z
UID:10000651-1773829800-1773860400@emmanuelunited.ca
SUMMARY:Tween and Teen March Break Event
DESCRIPTION:Tween and Teen March Break Event\nWednesday March 18 – 10:30 am to 7:00 pm.  \nCome help prepare and have lunch with our seniors. After lunch\, we’ll go to Laser Tag followed by supper and games at the church. Contact Amelia for more information.
URL:https://emmanuelunited.ca/event/tween-and-teen-march-break-event/
LOCATION:Ontario
ATTACH;FMTTYPE=image/jpeg:https://emmanuelunited.ca/wp-content/uploads/2023/10/Youth-Graphic.jpg
END:VEVENT
BEGIN:VEVENT
DTSTART;TZID=America/Toronto:20260318T120000
DTEND;TZID=America/Toronto:20260318T140000
DTSTAMP:20260421T073447
CREATED:20260226T143246Z
LAST-MODIFIED:20260226T144244Z
UID:10000650-1773835200-1773842400@emmanuelunited.ca
SUMMARY:Lunch & Entertainment Opportunity for Seniors
DESCRIPTION:Walking Together Through Life’s Transitions ~ Lunch and Entertainment for Seniors\nA supportive conversation group about aging\, care\, and what matters most\n******\nThe Teen Youth Ministry is excited to host a special luncheon for our senior adults on Wednesday\, March 18!  Join us for a delicious meal and warm fellowship. Following lunch\, we’ll gather in the sanctuary for musical entertainment provided by Ron MacDonald\, who will lead us in a lively piano performance and sing-along featuring familiar favourites. \nPlease RSVP by March 14th – email Ron at pastoralcare@emmanuelunited.ca or call the office at 613-733-0437. Kindly let us know if you have any food allergies when you RSVP. \nCome enjoy great food\, wonderful company\, and uplifting music.  We look forward to seeing you there!
URL:https://emmanuelunited.ca/event/lunch-entertainment-opportunity-for-seniors/
LOCATION:Ontario
ATTACH;FMTTYPE=image/jpeg:https://emmanuelunited.ca/wp-content/uploads/2026/02/Transitions.18Mar2026.jpg
END:VEVENT
BEGIN:VEVENT
DTSTART;TZID=America/Toronto:20260318T190000
DTEND;TZID=America/Toronto:20260318T193000
DTSTAMP:20260421T073447
CREATED:20260203T205416Z
LAST-MODIFIED:20260228T120145Z
UID:10000655-1773860400-1773862200@emmanuelunited.ca
SUMMARY:Wednesday Evening Lenten Service
DESCRIPTION:During the season of Lent\, there will be a 30 minute Lenten Service every Wednesday evening at 7pm on Zoom. \nJoin us for the next five weeks as we reflect and worship together.  The overall theme is ‘Reflections on Wilderness Time’. \nThe service will be led by a different lay leader every week according to the following schedule: \n     Feb 25 ~ Val Lines\n     Mar 4  ~ David Wray\n     Mar 11 ~ Bob Gander\n     Mar 18  ~ Phyllis Macrae\n     Mar 25  ~ Lynn Solvason\nClick here for the link:  Wednesday Evening Lenten Service ZOOM Link \n\n\nA passcode should not be needed\, but it is 405442 if necessary.
URL:https://emmanuelunited.ca/event/wednesday-evening-lenten-service-2/2026-03-18/
LOCATION:Ontario
ATTACH;FMTTYPE=image/jpeg:https://emmanuelunited.ca/wp-content/uploads/2025/03/Lent-Wednesday-Services.jpg
END:VEVENT
END:VCALENDAR