BEGIN:VCALENDAR
VERSION:2.0
PRODID:-//Emmanuel United Church - ECPv6.2.4//NONSGML v1.0//EN
CALSCALE:GREGORIAN
METHOD:PUBLISH
X-WR-CALNAME:Emmanuel United Church
X-ORIGINAL-URL:https://emmanuelunited.ca
X-WR-CALDESC:Events for Emmanuel United Church
REFRESH-INTERVAL;VALUE=DURATION:PT1H
X-Robots-Tag:noindex
X-PUBLISHED-TTL:PT1H
BEGIN:VTIMEZONE
TZID:America/Toronto
BEGIN:DAYLIGHT
TZOFFSETFROM:-0500
TZOFFSETTO:-0400
TZNAME:EDT
DTSTART:20260308T070000
END:DAYLIGHT
BEGIN:STANDARD
TZOFFSETFROM:-0400
TZOFFSETTO:-0500
TZNAME:EST
DTSTART:20261101T060000
END:STANDARD
END:VTIMEZONE
BEGIN:VEVENT
DTSTART;TZID=America/Toronto:20260511T190000
DTEND;TZID=America/Toronto:20260511T203000
DTSTAMP:20260421T071121
CREATED:20240926T023244Z
LAST-MODIFIED:20260420T004147Z
UID:10000170-1778526000-1778531400@emmanuelunited.ca
SUMMARY:Book Club
DESCRIPTION:The Book Club is meeting in Person on Monday\, May 11th. \nWe will start the session with a quick check-in with everyone; we look forward to reconnecting with everyone! \nWe will be discussing Proof by Beverley McLachlin. \nCheck out the full book club schedule on the ACTIVITIES page under Activities & Fellowship. \n 
URL:https://emmanuelunited.ca/event/book-club/
LOCATION:Ontario
ATTACH;FMTTYPE=image/jpeg:https://emmanuelunited.ca/wp-content/uploads/2024/03/Book-Club-2024-scaled.jpg
END:VEVENT
END:VCALENDAR