BEGIN:VCALENDAR
VERSION:2.0
PRODID:-//Emmanuel United Church - ECPv6.2.4//NONSGML v1.0//EN
CALSCALE:GREGORIAN
METHOD:PUBLISH
X-WR-CALNAME:Emmanuel United Church
X-ORIGINAL-URL:https://emmanuelunited.ca
X-WR-CALDESC:Events for Emmanuel United Church
REFRESH-INTERVAL;VALUE=DURATION:PT1H
X-Robots-Tag:noindex
X-PUBLISHED-TTL:PT1H
BEGIN:VTIMEZONE
TZID:America/Toronto
BEGIN:DAYLIGHT
TZOFFSETFROM:-0500
TZOFFSETTO:-0400
TZNAME:EDT
DTSTART:20250309T070000
END:DAYLIGHT
BEGIN:STANDARD
TZOFFSETFROM:-0400
TZOFFSETTO:-0500
TZNAME:EST
DTSTART:20251102T060000
END:STANDARD
END:VTIMEZONE
BEGIN:VEVENT
DTSTART;TZID=America/Toronto:20251109T113000
DTEND;TZID=America/Toronto:20251109T133000
DTSTAMP:20260421T120151
CREATED:20251103T191020Z
LAST-MODIFIED:20251103T191137Z
UID:10000628-1762687800-1762695000@emmanuelunited.ca
SUMMARY:Let's Stay Together
DESCRIPTION:
URL:https://emmanuelunited.ca/wp-content/uploads/2025/11/Nov-LST.jpg#new_tab
LOCATION:Ontario
ATTACH;FMTTYPE=image/jpeg:https://emmanuelunited.ca/wp-content/uploads/2025/11/Nov-LST.jpg
END:VEVENT
BEGIN:VEVENT
DTSTART;TZID=America/Toronto:20251115T100000
DTEND;TZID=America/Toronto:20251115T140000
DTSTAMP:20260421T120151
CREATED:20251103T190859Z
LAST-MODIFIED:20251103T190859Z
UID:10000627-1763200800-1763215200@emmanuelunited.ca
SUMMARY:Holiday Bazaar
DESCRIPTION:
URL:https://emmanuelunited.ca/wp-content/uploads/2025/11/EUC-Bazaar-2025-Community-Poster-1.jpg#new_tab
LOCATION:Ontario
ATTACH;FMTTYPE=image/jpeg:https://emmanuelunited.ca/wp-content/uploads/2025/11/EUC-Bazaar-2025-Community-Poster-1.jpg
END:VEVENT
BEGIN:VEVENT
DTSTART;TZID=America/Toronto:20251122T100000
DTEND;TZID=America/Toronto:20251122T160000
DTSTAMP:20260421T120151
CREATED:20251022T203502Z
LAST-MODIFIED:20251022T203945Z
UID:10000626-1763805600-1763827200@emmanuelunited.ca
SUMMARY:Art in the Neighbourhood
DESCRIPTION:25 artists gather under one roof to bring you a one-of-a-kind gallery event! Explore a rich variety of:\nvisual art\, wood art\, sculptures\, clay\, fibre art\, photography\, jewellery and so much more. \nNow in our 9th year\, Art in the Neighbourhood is delighted to host this celebration of local creativity. Whether you’re young\, old\, or in between—there’s something here for everyone. \nEnjoy live music performed by The Bluesy Swing Duo! \nMeet the artists\, hear their stories\, and discover affordable\, original works of art to take home. \nDon’t miss the raffle! Buy a free ticket on our website and exchange it at the show for a raffle entry to win amazing door prizes donated by our artists.
URL:https://emmanuelunited.ca/event/art-in-the-neighbourhood/
LOCATION:Ontario
ATTACH;FMTTYPE=image/webp:https://emmanuelunited.ca/wp-content/uploads/2025/10/Art-in-the-neighbourhood-2025.webp
END:VEVENT
BEGIN:VEVENT
DTSTART;TZID=America/Toronto:20251128T173000
DTEND;TZID=America/Toronto:20251128T200000
DTSTAMP:20260421T120151
CREATED:20251103T193709Z
LAST-MODIFIED:20251103T193709Z
UID:10000629-1764351000-1764360000@emmanuelunited.ca
SUMMARY:Parent's Night Out
DESCRIPTION:The CD Team is offering a Parent’s Night Out on Friday\, November 28th from 5:30 pm – 8:00 pm. Parents can drop their children off at the church for a meal\, games and crafts and use the time to do something for themselves. Contact Amelia Brohman for more information.
URL:https://emmanuelunited.ca/event/parents-night-out/
LOCATION:Ontario
ATTACH;FMTTYPE=image/jpeg:https://emmanuelunited.ca/wp-content/uploads/2023/10/Youth-Graphic.jpg
END:VEVENT
BEGIN:VEVENT
DTSTART;TZID=America/Toronto:20251129T163000
DTEND;TZID=America/Toronto:20251129T200000
DTSTAMP:20260421T120152
CREATED:20250929T001748Z
LAST-MODIFIED:20251103T193317Z
UID:10000624-1764433800-1764446400@emmanuelunited.ca
SUMMARY:Preteen Event
DESCRIPTION:Youth in grade six and up are invited to come for an evening of fun activities\, food and games.
URL:https://emmanuelunited.ca/event/teen-preteen-event/
LOCATION:Ontario
ATTACH;FMTTYPE=image/jpeg:https://emmanuelunited.ca/wp-content/uploads/2023/10/Youth-Graphic.jpg
END:VEVENT
END:VCALENDAR