BEGIN:VCALENDAR
VERSION:2.0
PRODID:-//Emmanuel United Church - ECPv6.2.4//NONSGML v1.0//EN
CALSCALE:GREGORIAN
METHOD:PUBLISH
X-WR-CALNAME:Emmanuel United Church
X-ORIGINAL-URL:https://emmanuelunited.ca
X-WR-CALDESC:Events for Emmanuel United Church
REFRESH-INTERVAL;VALUE=DURATION:PT1H
X-Robots-Tag:noindex
X-PUBLISHED-TTL:PT1H
BEGIN:VTIMEZONE
TZID:America/Toronto
BEGIN:DAYLIGHT
TZOFFSETFROM:-0500
TZOFFSETTO:-0400
TZNAME:EDT
DTSTART:20260308T070000
END:DAYLIGHT
BEGIN:STANDARD
TZOFFSETFROM:-0400
TZOFFSETTO:-0500
TZNAME:EST
DTSTART:20261101T060000
END:STANDARD
END:VTIMEZONE
BEGIN:VEVENT
DTSTART;TZID=America/Toronto:20260208T113000
DTEND;TZID=America/Toronto:20260208T143000
DTSTAMP:20260421T071214
CREATED:20260128T200043Z
LAST-MODIFIED:20260129T151659Z
UID:10000643-1770550200-1770561000@emmanuelunited.ca
SUMMARY:Let's Stay Together
DESCRIPTION:Let’s Stay Together Sunday \nJoin us for lunch after the service on February 8. After lunch we’ll be celebrating winter with a choice of going tobogganing together or staying inside to watch a film (or films) about winter fun in Canada. \nWe can provide helmets and winter gear for anyone who needs to borrow some for tobogganing. Please let Amelia know by Thursday\, Feb 5 if you need to borrow helmets or winter gear so we have time to get them organized. We’ll come back to the church after tobogganing for hot chocolate.
URL:https://emmanuelunited.ca/event/lets-stay-together-10/
LOCATION:Ontario
ATTACH;FMTTYPE=image/jpeg:https://emmanuelunited.ca/wp-content/uploads/2026/01/FEB-LST.jpg
END:VEVENT
BEGIN:VEVENT
DTSTART;TZID=America/Toronto:20260217T170000
DTEND;TZID=America/Toronto:20260217T190000
DTSTAMP:20260421T071214
CREATED:20260203T205910Z
LAST-MODIFIED:20260203T205910Z
UID:10000647-1771347600-1771354800@emmanuelunited.ca
SUMMARY:Shrove Tuesday Pancake Supper
DESCRIPTION:
URL:https://emmanuelunited.ca/wp-content/uploads/2026/02/Shrove-Tuesday-Pancake-Supper-2026-1.jpg#new_tab
LOCATION:Ontario
ATTACH;FMTTYPE=image/jpeg:https://emmanuelunited.ca/wp-content/uploads/2026/02/Shrove-Tuesday-Pancake-Supper-2026-1.jpg
END:VEVENT
BEGIN:VEVENT
DTSTART;TZID=America/Toronto:20260218T120000
DTEND;TZID=America/Toronto:20260218T140000
DTSTAMP:20260421T071214
CREATED:20260128T201049Z
LAST-MODIFIED:20260128T201049Z
UID:10000644-1771416000-1771423200@emmanuelunited.ca
SUMMARY:Walking Together Through Life’s Transitions – a Lunch and Learn Gathering
DESCRIPTION:Walking Together Through Life’s Transitions ~ a Lunch and Learn Gathering\nA supportive conversation group about aging\, care\, and what matters most\nAs we live longer\, fuller lives\, it can be helpful to pause and consider what matters most—and how our choices can be honored. “With age comes wisdom\, and with wisdom comes the freedom to live on your own terms.” \nDuring this session\, we’ll enjoy a shared meal and engage in gentle conversation\, guided reflection\, and a few simple questions to help you think through your priorities.  \nQuestions may include: \n\nWhat matters most to me as I age?\nWho knows my wishes\, and have I shared them?\nHow comfortable am I talking about life transitions and care planning?\nWhat questions and concerns do I have?\n\nWhen: Wednesday\, February 18th\nTime: 12:00 p.m. to 2:00 p.m.\nWhere: C.E. Hall\nRSVP: Email Ron at pastoralcare@emmanuelunited.ca or call office at 613-733-0437
URL:https://emmanuelunited.ca/event/walking-together-through-lifes-transitions-a-lunch-and-learn-gathering/
LOCATION:Ontario
ATTACH;FMTTYPE=image/jpeg:https://emmanuelunited.ca/wp-content/uploads/2026/01/Lunch-Conversation-for-Seniors-3-scaled.jpg
END:VEVENT
BEGIN:VEVENT
DTSTART;TZID=America/Toronto:20260218T190000
DTEND;TZID=America/Toronto:20260218T193000
DTSTAMP:20260421T071214
CREATED:20260129T204731Z
LAST-MODIFIED:20260129T204850Z
UID:10000646-1771441200-1771443000@emmanuelunited.ca
SUMMARY:Ash Wednesday Service
DESCRIPTION:
URL:https://emmanuelunited.ca/wp-content/uploads/2026/01/Ash-Wednesday-2026.jpg#new_tab
LOCATION:Ontario
ATTACH;FMTTYPE=image/jpeg:https://emmanuelunited.ca/wp-content/uploads/2026/01/Ash-Wednesday-2026.jpg
END:VEVENT
BEGIN:VEVENT
DTSTART;TZID=America/Toronto:20260222T113000
DTEND;TZID=America/Toronto:20260222T133000
DTSTAMP:20260421T071214
CREATED:20260129T204155Z
LAST-MODIFIED:20260129T205343Z
UID:10000645-1771759800-1771767000@emmanuelunited.ca
SUMMARY:Annual Congregational Meeting
DESCRIPTION:The Emmanuel United Church 2025 Annual Congregational Meeting will be held on Sunday\, February 22\, 2026.\nA light lunch will be served in the lounge following the Sunday morning worship service. Please serve yourself a plate of food and something to drink and resume sitting in the Sanctuary. The meeting will start at approximately 11:30 am.\nEveryone is welcome to attend.\nIf your children wish\, they can join Amelia in the CE Hall before the start of the meeting for age appropriate activities.\nThe meeting will be streamed (use the same link as the Sunday morning worship service) but online viewers will not be able to vote.\nVoting Rights will be in accordance with section 5.2 of the Emmanuel United Church Constitution\, which states that adherents have voting privileges unless otherwise decided at the meeting. So\, if you have been an adherent long enough to be in our monthly directory\, you’re as much a part of the decision-making as those who have membership.\nPlease bring along your copy of the 2025 Annual Report; it’s good to be able to refer to things as they are reviewed and discussed. There are a few extra copies in the Narthex.\nKeith Jeacle\nChair of Council
URL:https://emmanuelunited.ca/event/annual-congregational-meeting/
LOCATION:Ontario
ATTACH;FMTTYPE=image/jpeg:https://emmanuelunited.ca/wp-content/uploads/2026/01/EUC-Annual-Meeting-2026.jpg
END:VEVENT
BEGIN:VEVENT
DTSTART;TZID=America/Toronto:20260225T190000
DTEND;TZID=America/Toronto:20260225T193000
DTSTAMP:20260421T071214
CREATED:20260203T205416Z
LAST-MODIFIED:20260228T120145Z
UID:10000583-1772046000-1772047800@emmanuelunited.ca
SUMMARY:Wednesday Evening Lenten Service
DESCRIPTION:During the season of Lent\, there will be a 30 minute Lenten Service every Wednesday evening at 7pm on Zoom. \nJoin us for the next five weeks as we reflect and worship together.  The overall theme is ‘Reflections on Wilderness Time’. \nThe service will be led by a different lay leader every week according to the following schedule: \n     Feb 25 ~ Val Lines\n     Mar 4  ~ David Wray\n     Mar 11 ~ Bob Gander\n     Mar 18  ~ Phyllis Macrae\n     Mar 25  ~ Lynn Solvason\nClick here for the link:  Wednesday Evening Lenten Service ZOOM Link \n\n\nA passcode should not be needed\, but it is 405442 if necessary.
URL:https://emmanuelunited.ca/event/wednesday-evening-lenten-service-2/2026-02-25/
LOCATION:Ontario
ATTACH;FMTTYPE=image/jpeg:https://emmanuelunited.ca/wp-content/uploads/2025/03/Lent-Wednesday-Services.jpg
END:VEVENT
END:VCALENDAR