BEGIN:VCALENDAR
VERSION:2.0
PRODID:-//Emmanuel United Church - ECPv6.2.4//NONSGML v1.0//EN
CALSCALE:GREGORIAN
METHOD:PUBLISH
X-WR-CALNAME:Emmanuel United Church
X-ORIGINAL-URL:https://emmanuelunited.ca
X-WR-CALDESC:Events for Emmanuel United Church
REFRESH-INTERVAL;VALUE=DURATION:PT1H
X-Robots-Tag:noindex
X-PUBLISHED-TTL:PT1H
BEGIN:VTIMEZONE
TZID:America/Toronto
BEGIN:DAYLIGHT
TZOFFSETFROM:-0500
TZOFFSETTO:-0400
TZNAME:EDT
DTSTART:20260308T070000
END:DAYLIGHT
BEGIN:STANDARD
TZOFFSETFROM:-0400
TZOFFSETTO:-0500
TZNAME:EST
DTSTART:20261101T060000
END:STANDARD
END:VTIMEZONE
BEGIN:VEVENT
DTSTART;TZID=America/Toronto:20260503T190000
DTEND;TZID=America/Toronto:20260503T203000
DTSTAMP:20260421T054408
CREATED:20260401T211452Z
LAST-MODIFIED:20260401T211452Z
UID:10000658-1777834800-1777840200@emmanuelunited.ca
SUMMARY:Bells in Spring
DESCRIPTION:
URL:https://emmanuelunited.ca/wp-content/uploads/2026/04/bells-in-spring-2026.jpg#new_tab
LOCATION:Rideau Park United Church\, 2203 Alta Vista Drive\, Ottawa\, Ontario\, K1H 7L9\, Canada
ATTACH;FMTTYPE=image/jpeg:https://emmanuelunited.ca/wp-content/uploads/2026/04/bells-in-spring-2026.jpg
END:VEVENT
BEGIN:VEVENT
DTSTART;TZID=America/Toronto:20260509T080000
DTEND;TZID=America/Toronto:20260509T100000
DTSTAMP:20260421T054408
CREATED:20231206T234018Z
LAST-MODIFIED:20260420T004405Z
UID:10000041-1778313600-1778320800@emmanuelunited.ca
SUMMARY:Men's Breakfast
DESCRIPTION:The Emmanuel’s Men’s Group meets monthly for Breakfast from 8:30-10:30 am at Roger’s Italian Bistro\, at 500 Terminal Ave. \nThe upcoming dates are: \nMay 9\nJune 13\nJuly 11\nAugust 8
URL:https://emmanuelunited.ca/event/mens-breakfast/
LOCATION:Perkins Restaurant\, 1130 St. Laurent Blvd.\, Ottawa\, Ontario\, K1K3B6\, Canada
ATTACH;FMTTYPE=image/jpeg:https://emmanuelunited.ca/wp-content/uploads/2023/10/Mens-Breakfast-2023-1.jpg
END:VEVENT
BEGIN:VEVENT
DTSTART;TZID=America/Toronto:20260510T113000
DTEND;TZID=America/Toronto:20260510T133000
DTSTAMP:20260421T054408
CREATED:20260326T033654Z
LAST-MODIFIED:20260420T005527Z
UID:10000657-1778412600-1778419800@emmanuelunited.ca
SUMMARY:Let's Stay Together
DESCRIPTION:Join us after the service for lunch followed by a choice of two activities with the theme of poetry. There will be a chance to explore poetry for the young and young at heart\, and we are also hoping to have a spoken word artist come and share their work. This event\, which was previously scheduled for April\, is now taking place in May.
URL:https://emmanuelunited.ca/event/lets-stay-together-12/
LOCATION:Ontario
ATTACH;FMTTYPE=image/jpeg:https://emmanuelunited.ca/wp-content/uploads/2026/03/0412-April-LST.jpg
END:VEVENT
BEGIN:VEVENT
DTSTART;TZID=America/Toronto:20260511T190000
DTEND;TZID=America/Toronto:20260511T203000
DTSTAMP:20260421T054408
CREATED:20240926T023244Z
LAST-MODIFIED:20260420T004147Z
UID:10000170-1778526000-1778531400@emmanuelunited.ca
SUMMARY:Book Club
DESCRIPTION:The Book Club is meeting in Person on Monday\, May 11th. \nWe will start the session with a quick check-in with everyone; we look forward to reconnecting with everyone! \nWe will be discussing Proof by Beverley McLachlin. \nCheck out the full book club schedule on the ACTIVITIES page under Activities & Fellowship. \n 
URL:https://emmanuelunited.ca/event/book-club/
LOCATION:Ontario
ATTACH;FMTTYPE=image/jpeg:https://emmanuelunited.ca/wp-content/uploads/2024/03/Book-Club-2024-scaled.jpg
END:VEVENT
BEGIN:VEVENT
DTSTART;TZID=America/Toronto:20260517T110000
DTEND;TZID=America/Toronto:20260517T113000
DTSTAMP:20260421T054408
CREATED:20250316T232128Z
LAST-MODIFIED:20260420T003258Z
UID:10000590-1779015600-1779017400@emmanuelunited.ca
SUMMARY:Grocery Card Sales
DESCRIPTION:On a monthly basis\, you may purchase Loblaws\, Metro and Farm Boy Gift cards to raise funds for refugee housing through the Ottawa Mennonite Refugee Association. The grocery store partners pay OMRA between 4% and 5% of the value of the grocery cards. OMRA uses the funds to subsidize rents for refugee housing. Here is the link to the website: omraottawa.org \nGrocery cards may be purchased by cheque\, cash or e-transfer to envelope.secretary@emmanuelunited.ca (please do your e-transfer 2-3 days in advance of the sale date). \nSales will take place following the church service on: \nMay 17\, 2026\nJune 21\, 2026 \nThank you for your support of OMRA.
URL:https://emmanuelunited.ca/event/grocery-card-sales-2/
LOCATION:Ontario
ATTACH;FMTTYPE=image/jpeg:https://emmanuelunited.ca/wp-content/uploads/2023/08/2A-good-OMRA-Grocery-Card-Sales.jpg
END:VEVENT
END:VCALENDAR