BEGIN:VCALENDAR
VERSION:2.0
PRODID:-//Emmanuel United Church - ECPv6.2.4//NONSGML v1.0//EN
CALSCALE:GREGORIAN
METHOD:PUBLISH
X-ORIGINAL-URL:https://emmanuelunited.ca
X-WR-CALDESC:Events for Emmanuel United Church
REFRESH-INTERVAL;VALUE=DURATION:PT1H
X-Robots-Tag:noindex
X-PUBLISHED-TTL:PT1H
BEGIN:VTIMEZONE
TZID:America/Toronto
BEGIN:DAYLIGHT
TZOFFSETFROM:-0500
TZOFFSETTO:-0400
TZNAME:EDT
DTSTART:20260308T070000
END:DAYLIGHT
BEGIN:STANDARD
TZOFFSETFROM:-0400
TZOFFSETTO:-0500
TZNAME:EST
DTSTART:20261101T060000
END:STANDARD
END:VTIMEZONE
BEGIN:VEVENT
DTSTART;TZID=America/Toronto:20260727T090000
DTEND;TZID=America/Toronto:20260731T153000
DTSTAMP:20260421T103139
CREATED:20250527T182729Z
LAST-MODIFIED:20260420T010342Z
UID:10000659-1785142800-1785511800@emmanuelunited.ca
SUMMARY:Emmanuel Youth Outreach Leadership Camp
DESCRIPTION:Save the date. This is a camp for youth in Grades 6 to 10. Registration forms will be ready soon.
URL:https://emmanuelunited.ca/event/emmanuel-youth-outreach-leadership-camp/
LOCATION:Ontario
ATTACH;FMTTYPE=application/pdf:https://emmanuelunited.ca/wp-content/uploads/2025/05/Youth-Leadership-Camp-Graphic.pdf
END:VEVENT
END:VCALENDAR